BEGIN:VCALENDAR
VERSION:2.0
PRODID:-//AMPAC - Associated Master Plumbers of Allegheny County - ECPv6.15.20//NONSGML v1.0//EN
CALSCALE:GREGORIAN
METHOD:PUBLISH
X-ORIGINAL-URL:https://ampacplumber.org
X-WR-CALDESC:Events for AMPAC - Associated Master Plumbers of Allegheny County
REFRESH-INTERVAL;VALUE=DURATION:PT1H
X-Robots-Tag:noindex
X-PUBLISHED-TTL:PT1H
BEGIN:VTIMEZONE
TZID:UTC
BEGIN:STANDARD
TZOFFSETFROM:+0000
TZOFFSETTO:+0000
TZNAME:UTC
DTSTART:20240101T000000
END:STANDARD
END:VTIMEZONE
BEGIN:VEVENT
DTSTART;TZID=UTC:20250424T080000
DTEND;TZID=UTC:20250424T170000
DTSTAMP:20260424T062802
CREATED:20250206T155744Z
LAST-MODIFIED:20250206T160120Z
UID:2056-1745481600-1745514000@ampacplumber.org
SUMMARY:Spring 2025 Plumbing Licensing Exam
DESCRIPTION:The spring 2025 plumbing licensing exams will be held on April 24 & 25. The applications are available on ACHD website: https://www.alleghenycounty.us/Services/Health-Department/Plumbing-Program/Licensing-Information  \nAs a friendly\, but firm\, reminder: please DO NOT send cash to pay for the exam application fees. We can only accept checks or money orders. Please make those checks or money orders payable to the “Treasurer of Allegheny County”. All exam applications MUST be received by ACHD by March 24. \nFor those who took the licensing exam in December 2024: exam results were sent out in the mail earlier this week so please keep an eye on your mailboxes. If you passed\, congratulations on advancing to the next step in your career! Your letter will include instructions on what you must do regarding your new license.
URL:https://ampacplumber.org/event/spring-2025-plumbing-licensing-exam/
END:VEVENT
BEGIN:VEVENT
DTSTART;TZID=UTC:20250425T080000
DTEND;TZID=UTC:20250425T170000
DTSTAMP:20260424T062802
CREATED:20250206T155836Z
LAST-MODIFIED:20250206T160107Z
UID:2058-1745568000-1745600400@ampacplumber.org
SUMMARY:Spring 2025 Plumbing Licensing Exam
DESCRIPTION:The spring 2025 plumbing licensing exams will be held on April 24 & 25. The applications are available on ACHD website: https://www.alleghenycounty.us/Services/Health-Department/Plumbing-Program/Licensing-Information  \nAs a friendly\, but firm\, reminder: please DO NOT send cash to pay for the exam application fees. We can only accept checks or money orders. Please make those checks or money orders payable to the “Treasurer of Allegheny County”. All exam applications MUST be received by ACHD by March 24. \nFor those who took the licensing exam in December 2024: exam results were sent out in the mail earlier this week so please keep an eye on your mailboxes. If you passed\, congratulations on advancing to the next step in your career! Your letter will include instructions on what you must do regarding your new license.
URL:https://ampacplumber.org/event/spring-2025-plumbing-licensing-exam-2/
END:VEVENT
END:VCALENDAR