BEGIN:VCALENDAR
VERSION:2.0
PRODID:-//AMPAC - Associated Master Plumbers of Allegheny County - ECPv6.15.20//NONSGML v1.0//EN
CALSCALE:GREGORIAN
METHOD:PUBLISH
X-WR-CALNAME:AMPAC - Associated Master Plumbers of Allegheny County
X-ORIGINAL-URL:https://ampacplumber.org
X-WR-CALDESC:Events for AMPAC - Associated Master Plumbers of Allegheny County
REFRESH-INTERVAL;VALUE=DURATION:PT1H
X-Robots-Tag:noindex
X-PUBLISHED-TTL:PT1H
BEGIN:VTIMEZONE
TZID:UTC
BEGIN:STANDARD
TZOFFSETFROM:+0000
TZOFFSETTO:+0000
TZNAME:UTC
DTSTART:20230101T000000
END:STANDARD
END:VTIMEZONE
BEGIN:VEVENT
DTSTART;TZID=UTC:20241001T180000
DTEND;TZID=UTC:20241001T210000
DTSTAMP:20260424T153643
CREATED:20240416T171334Z
LAST-MODIFIED:20240416T171334Z
UID:1724-1727805600-1727816400@ampacplumber.org
SUMMARY:Backflow Initial Certification class
DESCRIPTION:
URL:https://ampacplumber.org/event/backflow-initial-certification-class-6/
END:VEVENT
BEGIN:VEVENT
DTSTART;TZID=UTC:20241003T180000
DTEND;TZID=UTC:20241003T210000
DTSTAMP:20260424T153643
CREATED:20240416T171355Z
LAST-MODIFIED:20240416T171355Z
UID:1726-1727978400-1727989200@ampacplumber.org
SUMMARY:Backflow Initial Certification class
DESCRIPTION:
URL:https://ampacplumber.org/event/backflow-initial-certification-class-7/
END:VEVENT
BEGIN:VEVENT
DTSTART;TZID=UTC:20241008T180000
DTEND;TZID=UTC:20241008T210000
DTSTAMP:20260424T153643
CREATED:20240416T171418Z
LAST-MODIFIED:20240416T171418Z
UID:1728-1728410400-1728421200@ampacplumber.org
SUMMARY:Backflow Initial Certification class
DESCRIPTION:
URL:https://ampacplumber.org/event/backflow-initial-certification-class-8/
END:VEVENT
BEGIN:VEVENT
DTSTART;TZID=UTC:20241010T180000
DTEND;TZID=UTC:20241010T210000
DTSTAMP:20260424T153643
CREATED:20240416T171443Z
LAST-MODIFIED:20240416T171443Z
UID:1730-1728583200-1728594000@ampacplumber.org
SUMMARY:Backflow Initial Certification class
DESCRIPTION:
URL:https://ampacplumber.org/event/backflow-initial-certification-class-9/
END:VEVENT
BEGIN:VEVENT
DTSTART;TZID=UTC:20241015T180000
DTEND;TZID=UTC:20241015T210000
DTSTAMP:20260424T153643
CREATED:20240416T171523Z
LAST-MODIFIED:20240416T171523Z
UID:1732-1729015200-1729026000@ampacplumber.org
SUMMARY:Backflow Initial Certification class
DESCRIPTION:
URL:https://ampacplumber.org/event/backflow-initial-certification-class-10/
END:VEVENT
BEGIN:VEVENT
DTSTART;TZID=UTC:20241017T180000
DTEND;TZID=UTC:20241017T210000
DTSTAMP:20260424T153643
CREATED:20240416T171546Z
LAST-MODIFIED:20240416T171546Z
UID:1734-1729188000-1729198800@ampacplumber.org
SUMMARY:Backflow Initial Certification class
DESCRIPTION:
URL:https://ampacplumber.org/event/backflow-initial-certification-class-11/
END:VEVENT
BEGIN:VEVENT
DTSTART;TZID=UTC:20241022T180000
DTEND;TZID=UTC:20241022T210000
DTSTAMP:20260424T153643
CREATED:20240416T171607Z
LAST-MODIFIED:20240416T171607Z
UID:1736-1729620000-1729630800@ampacplumber.org
SUMMARY:Backflow Initial Certification class
DESCRIPTION:
URL:https://ampacplumber.org/event/backflow-initial-certification-class-12/
END:VEVENT
BEGIN:VEVENT
DTSTART;TZID=UTC:20241024T180000
DTEND;TZID=UTC:20241024T210000
DTSTAMP:20260424T153643
CREATED:20240416T151926Z
LAST-MODIFIED:20240416T170933Z
UID:1710-1729792800-1729803600@ampacplumber.org
SUMMARY:Backflow Initial Certification class ENDS
DESCRIPTION:
URL:https://ampacplumber.org/event/backflow-initial-certification-class-ends-2/
LOCATION:AMPAC\, 3128 Allendale St\, Pittsburgh\, PA 15204\, Pittsburgh\, PA\, 15204\, United States
END:VEVENT
BEGIN:VEVENT
DTSTART;TZID=UTC:20241031T080000
DTEND;TZID=UTC:20241031T170000
DTSTAMP:20260424T153643
CREATED:20240724T183025Z
LAST-MODIFIED:20240724T183035Z
UID:1855-1730361600-1730394000@ampacplumber.org
SUMMARY:Halloween (No Classes)
DESCRIPTION:
URL:https://ampacplumber.org/event/halloween-no-classes/
END:VEVENT
END:VCALENDAR