BEGIN:VCALENDAR
VERSION:2.0
PRODID:-//AMPAC - Associated Master Plumbers of Allegheny County - ECPv6.15.20//NONSGML v1.0//EN
CALSCALE:GREGORIAN
METHOD:PUBLISH
X-ORIGINAL-URL:https://ampacplumber.org
X-WR-CALDESC:Events for AMPAC - Associated Master Plumbers of Allegheny County
REFRESH-INTERVAL;VALUE=DURATION:PT1H
X-Robots-Tag:noindex
X-PUBLISHED-TTL:PT1H
BEGIN:VTIMEZONE
TZID:UTC
BEGIN:STANDARD
TZOFFSETFROM:+0000
TZOFFSETTO:+0000
TZNAME:UTC
DTSTART:20230101T000000
END:STANDARD
END:VTIMEZONE
BEGIN:VEVENT
DTSTART;TZID=UTC:20240319T180000
DTEND;TZID=UTC:20240319T210000
DTSTAMP:20260425T023920
CREATED:20230523T142657Z
LAST-MODIFIED:20240318T222358Z
UID:1376-1710871200-1710882000@ampacplumber.org
SUMMARY:Backflow Initial Certification class begins
DESCRIPTION:
URL:https://ampacplumber.org/event/backflow-initial-certification-class-begins/
END:VEVENT
BEGIN:VEVENT
DTSTART;TZID=UTC:20240321T180000
DTEND;TZID=UTC:20240321T213000
DTSTAMP:20260425T023920
CREATED:20231221T194618Z
LAST-MODIFIED:20231221T194618Z
UID:1559-1711044000-1711056600@ampacplumber.org
SUMMARY:Last Night of Class 1st & 3rd year
DESCRIPTION:Last Night of Class 1st & 3rd year
URL:https://ampacplumber.org/event/last-night-of-class-1st-3rd-year/
END:VEVENT
BEGIN:VEVENT
DTSTART;TZID=UTC:20240325T180000
DTEND;TZID=UTC:20240325T213000
DTSTAMP:20260425T023920
CREATED:20231221T194500Z
LAST-MODIFIED:20231221T194500Z
UID:1557-1711389600-1711402200@ampacplumber.org
SUMMARY:Last Night of Class 2nd & 4th year
DESCRIPTION:Last Night of Class 2nd & 4th year
URL:https://ampacplumber.org/event/last-night-of-class-2nd-4th-year/
LOCATION:AMPAC\, 3128 Allendale St\, Pittsburgh\, PA 15204\, Pittsburgh\, PA\, 15204\, United States
END:VEVENT
END:VCALENDAR