BEGIN:VCALENDAR
VERSION:2.0
PRODID:-//AMPAC - Associated Master Plumbers of Allegheny County - ECPv6.15.20//NONSGML v1.0//EN
CALSCALE:GREGORIAN
METHOD:PUBLISH
X-ORIGINAL-URL:https://ampacplumber.org
X-WR-CALDESC:Events for AMPAC - Associated Master Plumbers of Allegheny County
REFRESH-INTERVAL;VALUE=DURATION:PT1H
X-Robots-Tag:noindex
X-PUBLISHED-TTL:PT1H
BEGIN:VTIMEZONE
TZID:UTC
BEGIN:STANDARD
TZOFFSETFROM:+0000
TZOFFSETTO:+0000
TZNAME:UTC
DTSTART:20220101T000000
END:STANDARD
END:VTIMEZONE
BEGIN:VEVENT
DTSTART;TZID=UTC:20230823T183000
DTEND;TZID=UTC:20230823T203000
DTSTAMP:20260425T133053
CREATED:20230320T122048Z
LAST-MODIFIED:20230320T182319Z
UID:850-1692815400-1692822600@ampacplumber.org
SUMMARY:Orientation for all NEW apprentices
DESCRIPTION:3 hours will be awarded for those in attendance
URL:https://ampacplumber.org/event/21-hour-master-refresher-class-starts/
END:VEVENT
BEGIN:VEVENT
DTSTART;TZID=UTC:20230828T180000
DTEND;TZID=UTC:20230828T213000
DTSTAMP:20260425T133053
CREATED:20230320T011534Z
LAST-MODIFIED:20230320T180842Z
UID:1183-1693245600-1693258200@ampacplumber.org
SUMMARY:First night fall semester 2023-2nd & 4th year apprentices
DESCRIPTION:2nd & 4th year students
URL:https://ampacplumber.org/event/first-night-of-class-for-2nd-and-4th-year/
END:VEVENT
BEGIN:VEVENT
DTSTART;TZID=UTC:20230829T180000
DTEND;TZID=UTC:20230829T213000
DTSTAMP:20260425T133053
CREATED:20230320T012934Z
LAST-MODIFIED:20230320T180254Z
UID:1252-1693332000-1693344600@ampacplumber.org
SUMMARY:First night Fall Semester 2023-1st & 3rd year apprentices
DESCRIPTION:1st & 3rd year apprentices
URL:https://ampacplumber.org/event/first-night-spring-semester-2023/
END:VEVENT
END:VCALENDAR