BEGIN:VCALENDAR
VERSION:2.0
PRODID:-//AMPAC - Associated Master Plumbers of Allegheny County - ECPv6.15.20//NONSGML v1.0//EN
CALSCALE:GREGORIAN
METHOD:PUBLISH
X-WR-CALNAME:AMPAC - Associated Master Plumbers of Allegheny County
X-ORIGINAL-URL:https://ampacplumber.org
X-WR-CALDESC:Events for AMPAC - Associated Master Plumbers of Allegheny County
REFRESH-INTERVAL;VALUE=DURATION:PT1H
X-Robots-Tag:noindex
X-PUBLISHED-TTL:PT1H
BEGIN:VTIMEZONE
TZID:UTC
BEGIN:STANDARD
TZOFFSETFROM:+0000
TZOFFSETTO:+0000
TZNAME:UTC
DTSTART:20220101T000000
END:STANDARD
END:VTIMEZONE
BEGIN:VEVENT
DTSTART;TZID=UTC:20230302T180000
DTEND;TZID=UTC:20230302T210000
DTSTAMP:20260425T204619
CREATED:20230123T191153Z
LAST-MODIFIED:20230123T191153Z
UID:1287-1677780000-1677790800@ampacplumber.org
SUMMARY:21 Hour refresher course
DESCRIPTION:Fifth of 7 nights.
URL:https://ampacplumber.org/event/21-hour-refresher-course-5/
END:VEVENT
BEGIN:VEVENT
DTSTART;TZID=UTC:20230302T183000
DTEND;TZID=UTC:20230302T213000
DTSTAMP:20260425T204619
CREATED:20230123T212645Z
LAST-MODIFIED:20230123T212645Z
UID:1326-1677781800-1677792600@ampacplumber.org
SUMMARY:Backflow certification course
DESCRIPTION:
URL:https://ampacplumber.org/event/backflow-certification-course-10/
END:VEVENT
BEGIN:VEVENT
DTSTART;TZID=UTC:20230307T180000
DTEND;TZID=UTC:20230307T210000
DTSTAMP:20260425T204619
CREATED:20230123T184901Z
LAST-MODIFIED:20230123T184901Z
UID:1268-1678212000-1678222800@ampacplumber.org
SUMMARY:21 Hour make up course
DESCRIPTION:Seventh/final week of 21 hour make up course.
URL:https://ampacplumber.org/event/21-hour-make-up-course-8/
END:VEVENT
BEGIN:VEVENT
DTSTART;TZID=UTC:20230307T183000
DTEND;TZID=UTC:20230307T213000
DTSTAMP:20260425T204619
CREATED:20230123T212713Z
LAST-MODIFIED:20230123T212713Z
UID:1328-1678213800-1678224600@ampacplumber.org
SUMMARY:Backflow certification course
DESCRIPTION:
URL:https://ampacplumber.org/event/backflow-certification-course-11/
END:VEVENT
BEGIN:VEVENT
DTSTART;TZID=UTC:20230309T180000
DTEND;TZID=UTC:20230309T210000
DTSTAMP:20260425T204619
CREATED:20230123T191509Z
LAST-MODIFIED:20230123T191509Z
UID:1289-1678384800-1678395600@ampacplumber.org
SUMMARY:21 Hour refresher course
DESCRIPTION:Sixth of 7 nights.
URL:https://ampacplumber.org/event/21-hour-refresher-course-6/
END:VEVENT
BEGIN:VEVENT
DTSTART;TZID=UTC:20230309T183000
DTEND;TZID=UTC:20230309T213000
DTSTAMP:20260425T204619
CREATED:20230123T212742Z
LAST-MODIFIED:20230123T212742Z
UID:1330-1678386600-1678397400@ampacplumber.org
SUMMARY:Backflow certification course
DESCRIPTION:
URL:https://ampacplumber.org/event/backflow-certification-course-12/
END:VEVENT
BEGIN:VEVENT
DTSTART;TZID=UTC:20230314T183000
DTEND;TZID=UTC:20230314T213000
DTSTAMP:20260425T204619
CREATED:20230123T212815Z
LAST-MODIFIED:20230123T212815Z
UID:1332-1678818600-1678829400@ampacplumber.org
SUMMARY:Backflow certification course
DESCRIPTION:
URL:https://ampacplumber.org/event/backflow-certification-course-13/
END:VEVENT
BEGIN:VEVENT
DTSTART;TZID=UTC:20230316T180000
DTEND;TZID=UTC:20230316T210000
DTSTAMP:20260425T204619
CREATED:20230123T191600Z
LAST-MODIFIED:20230123T191600Z
UID:1291-1678989600-1679000400@ampacplumber.org
SUMMARY:21 Hour refresher course
DESCRIPTION:Final night of course.
URL:https://ampacplumber.org/event/21-hour-refresher-course-7/
END:VEVENT
BEGIN:VEVENT
DTSTART;TZID=UTC:20230316T183000
DTEND;TZID=UTC:20230316T213000
DTSTAMP:20260425T204619
CREATED:20230123T212852Z
LAST-MODIFIED:20230123T212852Z
UID:1334-1678991400-1679002200@ampacplumber.org
SUMMARY:Backflow certification course
DESCRIPTION:
URL:https://ampacplumber.org/event/backflow-certification-course-14/
END:VEVENT
BEGIN:VEVENT
DTSTART;VALUE=DATE:20230322
DTEND;VALUE=DATE:20230323
DTSTAMP:20260425T204619
CREATED:20230320T011940Z
LAST-MODIFIED:20230320T182023Z
UID:943-1679443200-1679529599@ampacplumber.org
SUMMARY:Registration Opens Fall semester 2023
DESCRIPTION:Registration opens for Fall Semester 2023
URL:https://ampacplumber.org/event/registration-opens/
END:VEVENT
BEGIN:VEVENT
DTSTART;TZID=UTC:20230323T180000
DTEND;TZID=UTC:20230323T210000
DTSTAMP:20260425T204619
CREATED:20230123T190349Z
LAST-MODIFIED:20230123T190349Z
UID:1275-1679594400-1679605200@ampacplumber.org
SUMMARY:Final night spring semester 2023-1st & 3rd year apprentices
DESCRIPTION:24th/final night of spring semester.
URL:https://ampacplumber.org/event/final-night-spring-semester-2023-1st-3rd-year-apprentices/
END:VEVENT
BEGIN:VEVENT
DTSTART;TZID=UTC:20230327T180000
DTEND;TZID=UTC:20230327T210000
DTSTAMP:20260425T204619
CREATED:20230123T190504Z
LAST-MODIFIED:20230123T190504Z
UID:1277-1679940000-1679950800@ampacplumber.org
SUMMARY:Final night spring semester 2023-2nd & 4th year apprentices
DESCRIPTION:24th/final night of spring semester.
URL:https://ampacplumber.org/event/final-night-spring-semester-2023-2nd-4th-year-apprentices/
END:VEVENT
END:VCALENDAR