BEGIN:VCALENDAR
VERSION:2.0
PRODID:-//AMPAC - Associated Master Plumbers of Allegheny County - ECPv6.15.20//NONSGML v1.0//EN
CALSCALE:GREGORIAN
METHOD:PUBLISH
X-WR-CALNAME:AMPAC - Associated Master Plumbers of Allegheny County
X-ORIGINAL-URL:https://ampacplumber.org
X-WR-CALDESC:Events for AMPAC - Associated Master Plumbers of Allegheny County
REFRESH-INTERVAL;VALUE=DURATION:PT1H
X-Robots-Tag:noindex
X-PUBLISHED-TTL:PT1H
BEGIN:VTIMEZONE
TZID:UTC
BEGIN:STANDARD
TZOFFSETFROM:+0000
TZOFFSETTO:+0000
TZNAME:UTC
DTSTART:20240101T000000
END:STANDARD
END:VTIMEZONE
BEGIN:VEVENT
DTSTART;TZID=UTC:20251006T180000
DTEND;TZID=UTC:20251006T213000
DTSTAMP:20260424T094751
CREATED:20240724T184528Z
LAST-MODIFIED:20250418T133611Z
UID:1889-1759773600-1759786200@ampacplumber.org
SUMMARY:2nd & 4th Years (Night 12)
DESCRIPTION:
URL:https://ampacplumber.org/event/2nd-4th-years-night-12/
END:VEVENT
BEGIN:VEVENT
DTSTART;TZID=UTC:20251002T180000
DTEND;TZID=UTC:20251002T213000
DTSTAMP:20260424T094751
CREATED:20240724T190335Z
LAST-MODIFIED:20250418T133641Z
UID:1935-1759428000-1759440600@ampacplumber.org
SUMMARY:1st & 3rd Years (Night 11)
DESCRIPTION:21 Hr. Make up
URL:https://ampacplumber.org/event/1st-3rd-years-night-11/
END:VEVENT
BEGIN:VEVENT
DTSTART;TZID=UTC:20251001T180000
DTEND;TZID=UTC:20251001T213000
DTSTAMP:20260424T094751
CREATED:20240724T184455Z
LAST-MODIFIED:20250418T133716Z
UID:1887-1759341600-1759354200@ampacplumber.org
SUMMARY:2nd & 4th Years (Night 11)
DESCRIPTION:
URL:https://ampacplumber.org/event/2nd-4th-years-night-11/
END:VEVENT
BEGIN:VEVENT
DTSTART;TZID=UTC:20250930T180000
DTEND;TZID=UTC:20250930T213000
DTSTAMP:20260424T094751
CREATED:20240724T190307Z
LAST-MODIFIED:20250418T133750Z
UID:1933-1759255200-1759267800@ampacplumber.org
SUMMARY:1st & 3rd Years (Night 10)
DESCRIPTION:21 Hr. Refresher
URL:https://ampacplumber.org/event/1st-3rd-years-night-10/
END:VEVENT
BEGIN:VEVENT
DTSTART;TZID=UTC:20250930T180000
DTEND;TZID=UTC:20250930T210000
DTSTAMP:20260424T094751
CREATED:20250905T153539Z
LAST-MODIFIED:20250905T153539Z
UID:2162-1759255200-1759266000@ampacplumber.org
SUMMARY:21 Hr. Make Up
DESCRIPTION:
URL:https://ampacplumber.org/event/21-hr-make-up-2/
LOCATION:AMPAC\, 3128 Allendale St\, Pittsburgh\, PA 15204\, Pittsburgh\, PA\, 15204\, United States
END:VEVENT
BEGIN:VEVENT
DTSTART;TZID=UTC:20250929T180000
DTEND;TZID=UTC:20250929T213000
DTSTAMP:20260424T094751
CREATED:20240724T184408Z
LAST-MODIFIED:20250418T133824Z
UID:1885-1759168800-1759181400@ampacplumber.org
SUMMARY:2nd & 4th Years (Night 10)
DESCRIPTION:
URL:https://ampacplumber.org/event/2nd-4th-years-night-10/
END:VEVENT
BEGIN:VEVENT
DTSTART;TZID=UTC:20250925T180000
DTEND;TZID=UTC:20250925T213000
DTSTAMP:20260424T094751
CREATED:20240724T190236Z
LAST-MODIFIED:20250418T133852Z
UID:1931-1758823200-1758835800@ampacplumber.org
SUMMARY:1st & 3rd Years (Night 9)
DESCRIPTION:21 Hr. Make up
URL:https://ampacplumber.org/event/1st-3rd-years-night-9/
END:VEVENT
BEGIN:VEVENT
DTSTART;TZID=UTC:20250924T180000
DTEND;TZID=UTC:20250924T213000
DTSTAMP:20260424T094751
CREATED:20240724T184333Z
LAST-MODIFIED:20250418T134018Z
UID:1883-1758736800-1758749400@ampacplumber.org
SUMMARY:2nd & 4th Years (Night 9)
DESCRIPTION:
URL:https://ampacplumber.org/event/2nd-4th-years-night-9/
END:VEVENT
BEGIN:VEVENT
DTSTART;TZID=UTC:20250923T180000
DTEND;TZID=UTC:20250923T213000
DTSTAMP:20260424T094751
CREATED:20240724T190155Z
LAST-MODIFIED:20250418T134054Z
UID:1929-1758650400-1758663000@ampacplumber.org
SUMMARY:1st & 3rd Years (Night 8)
DESCRIPTION:
URL:https://ampacplumber.org/event/1st-3rd-years-night-8/
END:VEVENT
BEGIN:VEVENT
DTSTART;TZID=UTC:20250923T180000
DTEND;TZID=UTC:20250923T210000
DTSTAMP:20260424T094751
CREATED:20250905T153424Z
LAST-MODIFIED:20250905T153424Z
UID:2160-1758650400-1758661200@ampacplumber.org
SUMMARY:21 Hr. Make Up
DESCRIPTION:
URL:https://ampacplumber.org/event/21-hr-make-up/
LOCATION:AMPAC\, 3128 Allendale St\, Pittsburgh\, PA 15204\, Pittsburgh\, PA\, 15204\, United States
END:VEVENT
BEGIN:VEVENT
DTSTART;TZID=UTC:20250922T180000
DTEND;TZID=UTC:20250922T213000
DTSTAMP:20260424T094751
CREATED:20240724T184226Z
LAST-MODIFIED:20250418T134124Z
UID:1881-1758564000-1758576600@ampacplumber.org
SUMMARY:2nd & 4th Years (Night 8)
DESCRIPTION:
URL:https://ampacplumber.org/event/2nd-4th-years-night-8/
END:VEVENT
BEGIN:VEVENT
DTSTART;TZID=UTC:20250918T180000
DTEND;TZID=UTC:20250918T213000
DTSTAMP:20260424T094751
CREATED:20240724T190133Z
LAST-MODIFIED:20250418T134200Z
UID:1927-1758218400-1758231000@ampacplumber.org
SUMMARY:1st & 3rd Years (Night 7)
DESCRIPTION:21 Hr. Make up
URL:https://ampacplumber.org/event/1st-3rd-years-night-7/
END:VEVENT
BEGIN:VEVENT
DTSTART;TZID=UTC:20250917T180000
DTEND;TZID=UTC:20250917T213000
DTSTAMP:20260424T094751
CREATED:20240724T184201Z
LAST-MODIFIED:20250418T134228Z
UID:1879-1758132000-1758144600@ampacplumber.org
SUMMARY:2nd & 4th Years (Night 7)
DESCRIPTION:
URL:https://ampacplumber.org/event/2nd-4th-years-night-7/
END:VEVENT
BEGIN:VEVENT
DTSTART;TZID=UTC:20250916T180000
DTEND;TZID=UTC:20250916T213000
DTSTAMP:20260424T094751
CREATED:20240724T190055Z
LAST-MODIFIED:20250418T134305Z
UID:1925-1758045600-1758058200@ampacplumber.org
SUMMARY:1st & 3rd Years (Night 6)
DESCRIPTION:
URL:https://ampacplumber.org/event/1st-3rd-years-night-6/
END:VEVENT
BEGIN:VEVENT
DTSTART;TZID=UTC:20250915T180000
DTEND;TZID=UTC:20250915T213000
DTSTAMP:20260424T094751
CREATED:20240724T184136Z
LAST-MODIFIED:20250418T134337Z
UID:1877-1757959200-1757971800@ampacplumber.org
SUMMARY:2nd & 4th Years (Night 6)
DESCRIPTION:
URL:https://ampacplumber.org/event/2nd-4th-years-night-6/
END:VEVENT
BEGIN:VEVENT
DTSTART;TZID=UTC:20250911T180000
DTEND;TZID=UTC:20250911T213000
DTSTAMP:20260424T094751
CREATED:20240724T190031Z
LAST-MODIFIED:20250418T134415Z
UID:1923-1757613600-1757626200@ampacplumber.org
SUMMARY:1st & 3rd Years (Night 5)
DESCRIPTION:21 Hr. Make up
URL:https://ampacplumber.org/event/1st-3rd-years-night-5/
END:VEVENT
BEGIN:VEVENT
DTSTART;TZID=UTC:20250910T180000
DTEND;TZID=UTC:20250910T213000
DTSTAMP:20260424T094751
CREATED:20240724T184113Z
LAST-MODIFIED:20250418T134446Z
UID:1875-1757527200-1757539800@ampacplumber.org
SUMMARY:2nd & 4th Years (Night 5)
DESCRIPTION:
URL:https://ampacplumber.org/event/2nd-4th-years-night-5/
END:VEVENT
BEGIN:VEVENT
DTSTART;TZID=UTC:20250909T180000
DTEND;TZID=UTC:20250909T213000
DTSTAMP:20260424T094751
CREATED:20240724T185946Z
LAST-MODIFIED:20250418T134522Z
UID:1921-1757440800-1757453400@ampacplumber.org
SUMMARY:1st & 3rd Years (Night 4)
DESCRIPTION:
URL:https://ampacplumber.org/event/1st-3rd-years-night-4/
END:VEVENT
BEGIN:VEVENT
DTSTART;TZID=UTC:20250908T180000
DTEND;TZID=UTC:20250908T213000
DTSTAMP:20260424T094751
CREATED:20240724T184050Z
LAST-MODIFIED:20250418T134551Z
UID:1873-1757354400-1757367000@ampacplumber.org
SUMMARY:2nd & 4th Years (Night 4)
DESCRIPTION:
URL:https://ampacplumber.org/event/2nd-4th-years-night-4/
END:VEVENT
BEGIN:VEVENT
DTSTART;TZID=UTC:20250904T180000
DTEND;TZID=UTC:20250904T213000
DTSTAMP:20260424T094751
CREATED:20240724T185831Z
LAST-MODIFIED:20250418T134736Z
UID:1919-1757008800-1757021400@ampacplumber.org
SUMMARY:1st & 3rd Years (Night 3)
DESCRIPTION:
URL:https://ampacplumber.org/event/1st-3rd-years-night-3/
END:VEVENT
BEGIN:VEVENT
DTSTART;TZID=UTC:20250903T180000
DTEND;TZID=UTC:20250903T213000
DTSTAMP:20260424T094751
CREATED:20240724T184018Z
LAST-MODIFIED:20250418T134702Z
UID:1871-1756922400-1756935000@ampacplumber.org
SUMMARY:2nd & 4th Years (Night 3)
DESCRIPTION:
URL:https://ampacplumber.org/event/2nd-4th-years-night-3/
END:VEVENT
BEGIN:VEVENT
DTSTART;TZID=UTC:20250902T080000
DTEND;TZID=UTC:20250902T170000
DTSTAMP:20260424T094751
CREATED:20240724T183821Z
LAST-MODIFIED:20250418T135115Z
UID:1865-1756800000-1756832400@ampacplumber.org
SUMMARY:No Classes
DESCRIPTION:
URL:https://ampacplumber.org/event/no-classes-2/
END:VEVENT
BEGIN:VEVENT
DTSTART;TZID=UTC:20250901T080000
DTEND;TZID=UTC:20250901T170000
DTSTAMP:20260424T094751
CREATED:20240724T182933Z
LAST-MODIFIED:20250418T135037Z
UID:1851-1756713600-1756746000@ampacplumber.org
SUMMARY:Labor Day (No Classes)
DESCRIPTION:
URL:https://ampacplumber.org/event/labor-day-no-classes/
END:VEVENT
BEGIN:VEVENT
DTSTART;TZID=UTC:20250828T180000
DTEND;TZID=UTC:20250828T213000
DTSTAMP:20260424T094751
CREATED:20240724T185808Z
LAST-MODIFIED:20250418T134812Z
UID:1917-1756404000-1756416600@ampacplumber.org
SUMMARY:1st & 3rd Years (Night 2)
DESCRIPTION:
URL:https://ampacplumber.org/event/1st-3rd-years-night-2/
END:VEVENT
BEGIN:VEVENT
DTSTART;TZID=UTC:20250827T180000
DTEND;TZID=UTC:20250827T213000
DTSTAMP:20260424T094751
CREATED:20240724T183947Z
LAST-MODIFIED:20250418T134849Z
UID:1869-1756317600-1756330200@ampacplumber.org
SUMMARY:2nd & 4th Years (Night 2)
DESCRIPTION:
URL:https://ampacplumber.org/event/2nd-4th-years-night-2/
END:VEVENT
BEGIN:VEVENT
DTSTART;TZID=UTC:20250826T180000
DTEND;TZID=UTC:20250826T213000
DTSTAMP:20260424T094751
CREATED:20240724T185733Z
LAST-MODIFIED:20250418T134925Z
UID:1915-1756231200-1756243800@ampacplumber.org
SUMMARY:1st & 3rd Years (Night 1)
DESCRIPTION:
URL:https://ampacplumber.org/event/1st-3rd-years-night-1/
END:VEVENT
BEGIN:VEVENT
DTSTART;TZID=UTC:20250825T180000
DTEND;TZID=UTC:20250825T213000
DTSTAMP:20260424T094751
CREATED:20250418T135803Z
LAST-MODIFIED:20250418T135803Z
UID:2140-1756144800-1756157400@ampacplumber.org
SUMMARY:2nd & 4th Years (Night 1)
DESCRIPTION:
URL:https://ampacplumber.org/event/2nd-4th-years-night-1-2/
END:VEVENT
BEGIN:VEVENT
DTSTART;TZID=UTC:20250820T180000
DTEND;TZID=UTC:20250820T210000
DTSTAMP:20260424T094751
CREATED:20240724T175227Z
LAST-MODIFIED:20250418T131916Z
UID:1753-1755712800-1755723600@ampacplumber.org
SUMMARY:1st Year Orientation
DESCRIPTION:
URL:https://ampacplumber.org/event/1st-year-orientation/
END:VEVENT
BEGIN:VEVENT
DTSTART;VALUE=DATE:20250725
DTEND;VALUE=DATE:20250726
DTSTAMP:20260424T094751
CREATED:20250318T143835Z
LAST-MODIFIED:20250318T143839Z
UID:2130-1753401600-1753487999@ampacplumber.org
SUMMARY:Registration Deadline ($100 late fee if not paid by this date)
DESCRIPTION:$100 late fee if not paid by this date
URL:https://ampacplumber.org/event/registration-deadline-100-late-fee-if-not-paid-by-this-date/
END:VEVENT
BEGIN:VEVENT
DTSTART;TZID=UTC:20250425T080000
DTEND;TZID=UTC:20250425T170000
DTSTAMP:20260424T094751
CREATED:20250206T155836Z
LAST-MODIFIED:20250206T160107Z
UID:2058-1745568000-1745600400@ampacplumber.org
SUMMARY:Spring 2025 Plumbing Licensing Exam
DESCRIPTION:The spring 2025 plumbing licensing exams will be held on April 24 & 25. The applications are available on ACHD website: https://www.alleghenycounty.us/Services/Health-Department/Plumbing-Program/Licensing-Information  \nAs a friendly\, but firm\, reminder: please DO NOT send cash to pay for the exam application fees. We can only accept checks or money orders. Please make those checks or money orders payable to the “Treasurer of Allegheny County”. All exam applications MUST be received by ACHD by March 24. \nFor those who took the licensing exam in December 2024: exam results were sent out in the mail earlier this week so please keep an eye on your mailboxes. If you passed\, congratulations on advancing to the next step in your career! Your letter will include instructions on what you must do regarding your new license.
URL:https://ampacplumber.org/event/spring-2025-plumbing-licensing-exam-2/
END:VEVENT
END:VCALENDAR