BEGIN:VCALENDAR
VERSION:2.0
PRODID:-//AMPAC - Associated Master Plumbers of Allegheny County - ECPv6.15.20//NONSGML v1.0//EN
CALSCALE:GREGORIAN
METHOD:PUBLISH
X-WR-CALNAME:AMPAC - Associated Master Plumbers of Allegheny County
X-ORIGINAL-URL:https://ampacplumber.org
X-WR-CALDESC:Events for AMPAC - Associated Master Plumbers of Allegheny County
REFRESH-INTERVAL;VALUE=DURATION:PT1H
X-Robots-Tag:noindex
X-PUBLISHED-TTL:PT1H
BEGIN:VTIMEZONE
TZID:UTC
BEGIN:STANDARD
TZOFFSETFROM:+0000
TZOFFSETTO:+0000
TZNAME:UTC
DTSTART:20250101T000000
END:STANDARD
END:VTIMEZONE
BEGIN:VEVENT
DTSTART;TZID=UTC:20260122T170000
DTEND;TZID=UTC:20260122T210000
DTSTAMP:20260423T232125
CREATED:20251219T185950Z
LAST-MODIFIED:20251219T190108Z
UID:2360-1769101200-1769115600@ampacplumber.org
SUMMARY:1st Annual Western PA Plumbers Meet & Greet
DESCRIPTION:Calling All Master Plumbers & Plumbing Business Owners! \nJoin fellow Master Plumbers\, Plumbing Company Owners\, and Business Professionals for an \nexclusive evening of networking\, collaboration\, and industry insight. \nEvent Details: \n• Date: January 22\, 2026\n• Time: 5-?\n• Location: The Distillery Complex\, 59 South 2nd Street\, Pittsburgh\, PA 15219 \nRegistration: \n• RSVP Required by: December 20\, 2025\n• Registration Fee: $25 (Fully refunded upon attendance)\n• Note: This event is exclusively for Master Plumbers and Plumbing Owners. No guests\,\nplease. \nEvent Highlights: \n• Meet peers and build lasting business connections\n• Share best practices and industry trends\n• Enjoy light refreshments and a relaxed atmosphere\, receive 2 complimentary drink tickets\n• Optional meet-up afterward at Cigar Bar one floor down for continued networking \nWith sincere thanks to our event sponsors: Penstan / Triumph Sales / Milwaukee
URL:https://ampacplumber.org/event/1st-annual-western-pa-plumbers-meet-greet/
LOCATION:The Distillery Complex\, 59 South 2nd Street\,\, Pittsburgh\, PA\, 15219\, United States
END:VEVENT
BEGIN:VEVENT
DTSTART;TZID=UTC:20260122T180000
DTEND;TZID=UTC:20260122T213000
DTSTAMP:20260423T232125
CREATED:20240724T181804Z
LAST-MODIFIED:20251219T191848Z
UID:1813-1769104800-1769117400@ampacplumber.org
SUMMARY:1st & 3rd Year (Night 6)
DESCRIPTION:
URL:https://ampacplumber.org/event/1st-3rd-year-night-6/
LOCATION:PA
END:VEVENT
BEGIN:VEVENT
DTSTART;TZID=UTC:20260126T080000
DTEND;TZID=UTC:20260126T170000
DTSTAMP:20260423T232125
CREATED:20260126T165843Z
LAST-MODIFIED:20260126T165845Z
UID:2415-1769414400-1769446800@ampacplumber.org
SUMMARY:CLASSES CANCELED MONDAY
DESCRIPTION:
URL:https://ampacplumber.org/event/classes-canceled-monday/
LOCATION:PA
END:VEVENT
BEGIN:VEVENT
DTSTART;TZID=UTC:20260126T180000
DTEND;TZID=UTC:20260126T213000
DTSTAMP:20260423T232125
CREATED:20240724T175918Z
LAST-MODIFIED:20251219T190806Z
UID:1767-1769450400-1769463000@ampacplumber.org
SUMMARY:2nd & 4th Year (Night 7)
DESCRIPTION:
URL:https://ampacplumber.org/event/2nd-4th-year-night-7/
LOCATION:PA
END:VEVENT
BEGIN:VEVENT
DTSTART;TZID=UTC:20260127T180000
DTEND;TZID=UTC:20260127T210000
DTSTAMP:20260423T232125
CREATED:20250905T154229Z
LAST-MODIFIED:20260223T202923Z
UID:2188-1769536800-1769547600@ampacplumber.org
SUMMARY:Backflow Cert Class
DESCRIPTION:
URL:https://ampacplumber.org/event/backflow-cert-class/
LOCATION:AMPAC\, 3128 Allendale St\, Pittsburgh\, PA 15204\, Pittsburgh\, PA\, 15204\, United States
END:VEVENT
BEGIN:VEVENT
DTSTART;TZID=UTC:20260127T180000
DTEND;TZID=UTC:20260127T213000
DTSTAMP:20260423T232125
CREATED:20240724T181825Z
LAST-MODIFIED:20251219T191910Z
UID:1815-1769536800-1769549400@ampacplumber.org
SUMMARY:1st & 3rd Year (Night 7)
DESCRIPTION:
URL:https://ampacplumber.org/event/1st-3rd-year-night-7/
LOCATION:PA
END:VEVENT
BEGIN:VEVENT
DTSTART;TZID=UTC:20260128T180000
DTEND;TZID=UTC:20260128T213000
DTSTAMP:20260423T232125
CREATED:20240724T175948Z
LAST-MODIFIED:20251219T190827Z
UID:1769-1769623200-1769635800@ampacplumber.org
SUMMARY:2nd & 4th Year (Night 8)
DESCRIPTION:
URL:https://ampacplumber.org/event/2nd-4th-year-night-8/
LOCATION:PA
END:VEVENT
BEGIN:VEVENT
DTSTART;TZID=UTC:20260129T180000
DTEND;TZID=UTC:20260129T210000
DTSTAMP:20260423T232125
CREATED:20250905T154303Z
LAST-MODIFIED:20260223T202912Z
UID:2190-1769709600-1769720400@ampacplumber.org
SUMMARY:Backflow Cert Class
DESCRIPTION:
URL:https://ampacplumber.org/event/backflow-cert-class-2/
LOCATION:AMPAC\, 3128 Allendale St\, Pittsburgh\, PA 15204\, Pittsburgh\, PA\, 15204\, United States
END:VEVENT
BEGIN:VEVENT
DTSTART;TZID=UTC:20260129T180000
DTEND;TZID=UTC:20260129T213000
DTSTAMP:20260423T232125
CREATED:20240724T181846Z
LAST-MODIFIED:20251219T191935Z
UID:1817-1769709600-1769722200@ampacplumber.org
SUMMARY:1st & 3rd Year (Night 8)
DESCRIPTION:
URL:https://ampacplumber.org/event/1st-3rd-year-night-8/
LOCATION:PA
END:VEVENT
BEGIN:VEVENT
DTSTART;TZID=UTC:20260202T180000
DTEND;TZID=UTC:20260202T213000
DTSTAMP:20260423T232125
CREATED:20240724T180028Z
LAST-MODIFIED:20251219T190849Z
UID:1771-1770055200-1770067800@ampacplumber.org
SUMMARY:2nd & 4th Year (Night 9)
DESCRIPTION:
URL:https://ampacplumber.org/event/2nd-4th-year-night-9/
LOCATION:PA
END:VEVENT
BEGIN:VEVENT
DTSTART;TZID=UTC:20260203T180000
DTEND;TZID=UTC:20260203T210000
DTSTAMP:20260423T232125
CREATED:20250905T154329Z
LAST-MODIFIED:20251029T174050Z
UID:2192-1770141600-1770152400@ampacplumber.org
SUMMARY:Backflow Cert Class
DESCRIPTION:
URL:https://ampacplumber.org/event/backflow-cert-class-3/
LOCATION:AMPAC\, 3128 Allendale St\, Pittsburgh\, PA 15204\, Pittsburgh\, PA\, 15204\, United States
END:VEVENT
BEGIN:VEVENT
DTSTART;TZID=UTC:20260203T180000
DTEND;TZID=UTC:20260203T213000
DTSTAMP:20260423T232125
CREATED:20240724T181917Z
LAST-MODIFIED:20251219T191956Z
UID:1819-1770141600-1770154200@ampacplumber.org
SUMMARY:1st & 3rd Year (Night 9)
DESCRIPTION:
URL:https://ampacplumber.org/event/1st-3rd-year-night-9/
LOCATION:PA
END:VEVENT
BEGIN:VEVENT
DTSTART;TZID=UTC:20260204T180000
DTEND;TZID=UTC:20260204T213000
DTSTAMP:20260423T232125
CREATED:20240724T180053Z
LAST-MODIFIED:20251219T190908Z
UID:1773-1770228000-1770240600@ampacplumber.org
SUMMARY:2nd & 4th Year (Night 10)
DESCRIPTION:
URL:https://ampacplumber.org/event/2nd-4th-year-night-10/
LOCATION:PA
END:VEVENT
BEGIN:VEVENT
DTSTART;TZID=UTC:20260205T180000
DTEND;TZID=UTC:20260205T210000
DTSTAMP:20260423T232125
CREATED:20250905T154352Z
LAST-MODIFIED:20260223T202903Z
UID:2194-1770314400-1770325200@ampacplumber.org
SUMMARY:Backflow Cert Class
DESCRIPTION:
URL:https://ampacplumber.org/event/backflow-cert-class-4/
LOCATION:AMPAC\, 3128 Allendale St\, Pittsburgh\, PA 15204\, Pittsburgh\, PA\, 15204\, United States
END:VEVENT
BEGIN:VEVENT
DTSTART;TZID=UTC:20260205T180000
DTEND;TZID=UTC:20260205T213000
DTSTAMP:20260423T232125
CREATED:20240724T181937Z
LAST-MODIFIED:20251219T192013Z
UID:1821-1770314400-1770327000@ampacplumber.org
SUMMARY:1st & 3rd Year (Night 10)
DESCRIPTION:
URL:https://ampacplumber.org/event/1st-3rd-year-night-10/
LOCATION:PA
END:VEVENT
BEGIN:VEVENT
DTSTART;TZID=UTC:20260209T180000
DTEND;TZID=UTC:20260209T213000
DTSTAMP:20260423T232125
CREATED:20240724T180125Z
LAST-MODIFIED:20251219T190956Z
UID:1775-1770660000-1770672600@ampacplumber.org
SUMMARY:2nd & 4th Year (Night 11)
DESCRIPTION:
URL:https://ampacplumber.org/event/2nd-4th-year-night-11/
LOCATION:PA
END:VEVENT
BEGIN:VEVENT
DTSTART;TZID=UTC:20260210T180000
DTEND;TZID=UTC:20260210T210000
DTSTAMP:20260423T232125
CREATED:20250905T154431Z
LAST-MODIFIED:20260223T202853Z
UID:2196-1770746400-1770757200@ampacplumber.org
SUMMARY:Backflow Cert Class
DESCRIPTION:
URL:https://ampacplumber.org/event/backflow-cert-class-5/
LOCATION:AMPAC\, 3128 Allendale St\, Pittsburgh\, PA 15204\, Pittsburgh\, PA\, 15204\, United States
END:VEVENT
BEGIN:VEVENT
DTSTART;TZID=UTC:20260210T180000
DTEND;TZID=UTC:20260210T213000
DTSTAMP:20260423T232125
CREATED:20240724T182009Z
LAST-MODIFIED:20251219T192030Z
UID:1823-1770746400-1770759000@ampacplumber.org
SUMMARY:1st & 3rd Year (Night 11)
DESCRIPTION:
URL:https://ampacplumber.org/event/1st-3rd-year-night-11/
LOCATION:PA
END:VEVENT
BEGIN:VEVENT
DTSTART;TZID=UTC:20260211T180000
DTEND;TZID=UTC:20260211T213000
DTSTAMP:20260423T232125
CREATED:20240724T180150Z
LAST-MODIFIED:20251219T191015Z
UID:1777-1770832800-1770845400@ampacplumber.org
SUMMARY:2nd & 4th Year (Night 12)
DESCRIPTION:
URL:https://ampacplumber.org/event/2nd-4th-year-night-12/
LOCATION:PA
END:VEVENT
BEGIN:VEVENT
DTSTART;TZID=UTC:20260212T180000
DTEND;TZID=UTC:20260212T210000
DTSTAMP:20260423T232125
CREATED:20250905T154454Z
LAST-MODIFIED:20260223T202837Z
UID:2198-1770919200-1770930000@ampacplumber.org
SUMMARY:Backflow Cert Class
DESCRIPTION:
URL:https://ampacplumber.org/event/backflow-cert-class-6/
LOCATION:AMPAC\, 3128 Allendale St\, Pittsburgh\, PA 15204\, Pittsburgh\, PA\, 15204\, United States
END:VEVENT
BEGIN:VEVENT
DTSTART;TZID=UTC:20260212T180000
DTEND;TZID=UTC:20260212T213000
DTSTAMP:20260423T232125
CREATED:20240724T182130Z
LAST-MODIFIED:20251219T192048Z
UID:1825-1770919200-1770931800@ampacplumber.org
SUMMARY:1st & 3rd Year (Night 12)
DESCRIPTION:
URL:https://ampacplumber.org/event/1st-3rd-year-night-12/
LOCATION:PA
END:VEVENT
BEGIN:VEVENT
DTSTART;TZID=UTC:20260216T180000
DTEND;TZID=UTC:20260216T213000
DTSTAMP:20260423T232125
CREATED:20240724T180210Z
LAST-MODIFIED:20251219T191122Z
UID:1779-1771264800-1771277400@ampacplumber.org
SUMMARY:2nd & 4th Year (Night 13)
DESCRIPTION:
URL:https://ampacplumber.org/event/2nd-4th-year-night-13/
LOCATION:PA
END:VEVENT
BEGIN:VEVENT
DTSTART;TZID=UTC:20260217T180000
DTEND;TZID=UTC:20260217T210000
DTSTAMP:20260423T232125
CREATED:20250905T154525Z
LAST-MODIFIED:20251029T174304Z
UID:2200-1771351200-1771362000@ampacplumber.org
SUMMARY:Backflow Cert Class
DESCRIPTION:
URL:https://ampacplumber.org/event/backflow-cert-class-7/
LOCATION:AMPAC\, 3128 Allendale St\, Pittsburgh\, PA 15204\, Pittsburgh\, PA\, 15204\, United States
END:VEVENT
BEGIN:VEVENT
DTSTART;TZID=UTC:20260217T180000
DTEND;TZID=UTC:20260217T213000
DTSTAMP:20260423T232125
CREATED:20240724T182207Z
LAST-MODIFIED:20251219T192112Z
UID:1827-1771351200-1771363800@ampacplumber.org
SUMMARY:1st & 3rd Year (Night 13)
DESCRIPTION:21 Hr. Refresher
URL:https://ampacplumber.org/event/1st-3rd-year-night-13/
LOCATION:PA
END:VEVENT
BEGIN:VEVENT
DTSTART;TZID=UTC:20260218T180000
DTEND;TZID=UTC:20260218T213000
DTSTAMP:20260423T232125
CREATED:20240724T180254Z
LAST-MODIFIED:20251219T191148Z
UID:1781-1771437600-1771450200@ampacplumber.org
SUMMARY:2nd & 4th Year (Night 14)
DESCRIPTION:
URL:https://ampacplumber.org/event/2nd-4th-year-night-14/
LOCATION:PA
END:VEVENT
BEGIN:VEVENT
DTSTART;TZID=UTC:20260219T180000
DTEND;TZID=UTC:20260219T210000
DTSTAMP:20260423T232125
CREATED:20250905T154548Z
LAST-MODIFIED:20260223T202821Z
UID:2202-1771524000-1771534800@ampacplumber.org
SUMMARY:Backflow Cert Class
DESCRIPTION:
URL:https://ampacplumber.org/event/backflow-cert-class-8/
LOCATION:AMPAC\, 3128 Allendale St\, Pittsburgh\, PA 15204\, Pittsburgh\, PA\, 15204\, United States
END:VEVENT
BEGIN:VEVENT
DTSTART;TZID=UTC:20260219T180000
DTEND;TZID=UTC:20260219T213000
DTSTAMP:20260423T232125
CREATED:20240724T182241Z
LAST-MODIFIED:20251219T192133Z
UID:1829-1771524000-1771536600@ampacplumber.org
SUMMARY:1st & 3rd Year (Night 14)
DESCRIPTION:
URL:https://ampacplumber.org/event/1st-3rd-year-night-14/
LOCATION:PA
END:VEVENT
BEGIN:VEVENT
DTSTART;TZID=UTC:20260221T080000
DTEND;TZID=UTC:20260221T170000
DTSTAMP:20260423T232125
CREATED:20240904T143727Z
LAST-MODIFIED:20251029T173539Z
UID:1703-1771660800-1771693200@ampacplumber.org
SUMMARY:Backflow Recert Class
DESCRIPTION:
URL:https://ampacplumber.org/event/backflow-recert-classes/
LOCATION:AMPAC\, 3128 Allendale St\, Pittsburgh\, PA 15204\, Pittsburgh\, PA\, 15204\, United States
END:VEVENT
BEGIN:VEVENT
DTSTART;TZID=UTC:20260223T180000
DTEND;TZID=UTC:20260223T213000
DTSTAMP:20260423T232125
CREATED:20240724T180338Z
LAST-MODIFIED:20251219T191232Z
UID:1783-1771869600-1771882200@ampacplumber.org
SUMMARY:2nd & 4th Year (Night 15)
DESCRIPTION:
URL:https://ampacplumber.org/event/2nd-4th-year-night-15/
LOCATION:PA
END:VEVENT
BEGIN:VEVENT
DTSTART;TZID=UTC:20260224T180000
DTEND;TZID=UTC:20260224T210000
DTSTAMP:20260423T232125
CREATED:20250905T154612Z
LAST-MODIFIED:20260223T202811Z
UID:2204-1771956000-1771966800@ampacplumber.org
SUMMARY:Backflow Cert Class
DESCRIPTION:
URL:https://ampacplumber.org/event/backflow-cert-class-9/
LOCATION:AMPAC\, 3128 Allendale St\, Pittsburgh\, PA 15204\, Pittsburgh\, PA\, 15204\, United States
END:VEVENT
END:VCALENDAR