BEGIN:VCALENDAR
VERSION:2.0
PRODID:-//AMPAC - Associated Master Plumbers of Allegheny County - ECPv6.15.20//NONSGML v1.0//EN
CALSCALE:GREGORIAN
METHOD:PUBLISH
X-WR-CALNAME:AMPAC - Associated Master Plumbers of Allegheny County
X-ORIGINAL-URL:https://ampacplumber.org
X-WR-CALDESC:Events for AMPAC - Associated Master Plumbers of Allegheny County
REFRESH-INTERVAL;VALUE=DURATION:PT1H
X-Robots-Tag:noindex
X-PUBLISHED-TTL:PT1H
BEGIN:VTIMEZONE
TZID:UTC
BEGIN:STANDARD
TZOFFSETFROM:+0000
TZOFFSETTO:+0000
TZNAME:UTC
DTSTART:20240101T000000
END:STANDARD
END:VTIMEZONE
BEGIN:VEVENT
DTSTART;TZID=UTC:20260122T170000
DTEND;TZID=UTC:20260122T210000
DTSTAMP:20260423T215309
CREATED:20251219T185950Z
LAST-MODIFIED:20251219T190108Z
UID:2360-1769101200-1769115600@ampacplumber.org
SUMMARY:1st Annual Western PA Plumbers Meet & Greet
DESCRIPTION:Calling All Master Plumbers & Plumbing Business Owners! \nJoin fellow Master Plumbers\, Plumbing Company Owners\, and Business Professionals for an \nexclusive evening of networking\, collaboration\, and industry insight. \nEvent Details: \n• Date: January 22\, 2026\n• Time: 5-?\n• Location: The Distillery Complex\, 59 South 2nd Street\, Pittsburgh\, PA 15219 \nRegistration: \n• RSVP Required by: December 20\, 2025\n• Registration Fee: $25 (Fully refunded upon attendance)\n• Note: This event is exclusively for Master Plumbers and Plumbing Owners. No guests\,\nplease. \nEvent Highlights: \n• Meet peers and build lasting business connections\n• Share best practices and industry trends\n• Enjoy light refreshments and a relaxed atmosphere\, receive 2 complimentary drink tickets\n• Optional meet-up afterward at Cigar Bar one floor down for continued networking \nWith sincere thanks to our event sponsors: Penstan / Triumph Sales / Milwaukee
URL:https://ampacplumber.org/event/1st-annual-western-pa-plumbers-meet-greet/
LOCATION:The Distillery Complex\, 59 South 2nd Street\,\, Pittsburgh\, PA\, 15219\, United States
END:VEVENT
BEGIN:VEVENT
DTSTART;TZID=UTC:20260121T180000
DTEND;TZID=UTC:20260121T213000
DTSTAMP:20260423T215309
CREATED:20240724T175848Z
LAST-MODIFIED:20251219T190742Z
UID:1765-1769018400-1769031000@ampacplumber.org
SUMMARY:2nd & 4th Year (Night 6)
DESCRIPTION:
URL:https://ampacplumber.org/event/2nd-4th-year-night-6/
LOCATION:PA
END:VEVENT
BEGIN:VEVENT
DTSTART;TZID=UTC:20260120T180000
DTEND;TZID=UTC:20260120T213000
DTSTAMP:20260423T215309
CREATED:20240724T181734Z
LAST-MODIFIED:20251219T191833Z
UID:1811-1768932000-1768944600@ampacplumber.org
SUMMARY:1st & 3rd Year (Night 5)
DESCRIPTION:
URL:https://ampacplumber.org/event/1st-3rd-year-night-5/
LOCATION:PA
END:VEVENT
BEGIN:VEVENT
DTSTART;TZID=UTC:20260119T180000
DTEND;TZID=UTC:20260119T213000
DTSTAMP:20260423T215309
CREATED:20240724T175824Z
LAST-MODIFIED:20251219T190717Z
UID:1763-1768845600-1768858200@ampacplumber.org
SUMMARY:2nd & 4th Year (Night 5)
DESCRIPTION:
URL:https://ampacplumber.org/event/2nd-4th-year-night-5/
LOCATION:PA
END:VEVENT
BEGIN:VEVENT
DTSTART;TZID=UTC:20260117T080000
DTEND;TZID=UTC:20260117T170000
DTSTAMP:20260423T215309
CREATED:20240904T143813Z
LAST-MODIFIED:20251029T173634Z
UID:1975-1768636800-1768669200@ampacplumber.org
SUMMARY:Backflow Recert Class
DESCRIPTION:
URL:https://ampacplumber.org/event/backflow-recert-classes-2/
LOCATION:AMPAC\, 3128 Allendale St\, Pittsburgh\, PA 15204\, Pittsburgh\, PA\, 15204\, United States
END:VEVENT
BEGIN:VEVENT
DTSTART;TZID=UTC:20260115T180000
DTEND;TZID=UTC:20260115T213000
DTSTAMP:20260423T215309
CREATED:20240724T181707Z
LAST-MODIFIED:20251219T191753Z
UID:1809-1768500000-1768512600@ampacplumber.org
SUMMARY:1st & 3rd Year (Night 4)
DESCRIPTION:
URL:https://ampacplumber.org/event/1st-3rd-year-night-4/
LOCATION:PA
END:VEVENT
BEGIN:VEVENT
DTSTART;TZID=UTC:20260114T180000
DTEND;TZID=UTC:20260114T213000
DTSTAMP:20260423T215309
CREATED:20240724T175801Z
LAST-MODIFIED:20251219T190634Z
UID:1761-1768413600-1768426200@ampacplumber.org
SUMMARY:2nd & 4th Year (Night 4)
DESCRIPTION:
URL:https://ampacplumber.org/event/2nd-4th-year-night-4/
LOCATION:PA
END:VEVENT
BEGIN:VEVENT
DTSTART;TZID=UTC:20260113T180000
DTEND;TZID=UTC:20260113T213000
DTSTAMP:20260423T215309
CREATED:20240724T181620Z
LAST-MODIFIED:20251219T191723Z
UID:1807-1768327200-1768339800@ampacplumber.org
SUMMARY:1st & 3rd Year (Night 3)
DESCRIPTION:
URL:https://ampacplumber.org/event/1st-3rd-year-night-3/
LOCATION:PA
END:VEVENT
BEGIN:VEVENT
DTSTART;TZID=UTC:20260112T180000
DTEND;TZID=UTC:20260112T213000
DTSTAMP:20260423T215309
CREATED:20240724T175733Z
LAST-MODIFIED:20251219T190604Z
UID:1759-1768240800-1768253400@ampacplumber.org
SUMMARY:2nd & 4th Year (Night 3)
DESCRIPTION:
URL:https://ampacplumber.org/event/2nd-4th-year-night-3/
LOCATION:PA
END:VEVENT
BEGIN:VEVENT
DTSTART;TZID=UTC:20260108T180000
DTEND;TZID=UTC:20260108T213000
DTSTAMP:20260423T215309
CREATED:20240724T181322Z
LAST-MODIFIED:20251219T191702Z
UID:1805-1767895200-1767907800@ampacplumber.org
SUMMARY:1st & 3rd Year (Night 2)
DESCRIPTION:
URL:https://ampacplumber.org/event/1st-3rd-year-night-2/
LOCATION:PA
END:VEVENT
BEGIN:VEVENT
DTSTART;TZID=UTC:20260107T180000
DTEND;TZID=UTC:20260107T213000
DTSTAMP:20260423T215309
CREATED:20240724T175711Z
LAST-MODIFIED:20251219T190535Z
UID:1757-1767808800-1767821400@ampacplumber.org
SUMMARY:2nd & 4th Year (Night 2)
DESCRIPTION:
URL:https://ampacplumber.org/event/2nd-4th-year-night-2/
LOCATION:PA
END:VEVENT
BEGIN:VEVENT
DTSTART;TZID=UTC:20260106T180000
DTEND;TZID=UTC:20260106T213000
DTSTAMP:20260423T215309
CREATED:20240724T181149Z
LAST-MODIFIED:20251219T191646Z
UID:1803-1767722400-1767735000@ampacplumber.org
SUMMARY:1st & 3rd Year (Night 1)
DESCRIPTION:
URL:https://ampacplumber.org/event/1st-3rd-year-night-1/
LOCATION:PA
END:VEVENT
BEGIN:VEVENT
DTSTART;TZID=UTC:20260105T180000
DTEND;TZID=UTC:20260105T213000
DTSTAMP:20260423T215309
CREATED:20240724T175618Z
LAST-MODIFIED:20251219T190438Z
UID:1755-1767636000-1767648600@ampacplumber.org
SUMMARY:2nd & 4th Year (Night 1)
DESCRIPTION:
URL:https://ampacplumber.org/event/2nd-4th-year-night-1/
LOCATION:PA
END:VEVENT
BEGIN:VEVENT
DTSTART;TZID=UTC:20251216T080000
DTEND;TZID=UTC:20251216T170000
DTSTAMP:20260423T215309
CREATED:20251029T171843Z
LAST-MODIFIED:20251029T171848Z
UID:2243-1765872000-1765904400@ampacplumber.org
SUMMARY:ACHD's Plumbing Program Journeyman and Master plumber exam
DESCRIPTION:Deadline for application: application and notarized work statement November 17\, 2025
URL:https://ampacplumber.org/event/achds-plumbing-program-journeyman-and-master-plumber-exam/
LOCATION:Cherry City Volunteer Fire Company\, 309 Davis Ave\, Pittsburgh\, PA\, 15209\, United States
END:VEVENT
BEGIN:VEVENT
DTSTART;TZID=UTC:20251213T180000
DTEND;TZID=UTC:20251213T210000
DTSTAMP:20260423T215309
CREATED:20250926T153258Z
LAST-MODIFIED:20250926T153258Z
UID:2219-1765648800-1765659600@ampacplumber.org
SUMMARY:Backflow Cert Class
DESCRIPTION:
URL:https://ampacplumber.org/event/backflow-cert-class-16/
LOCATION:AMPAC\, 3128 Allendale St\, Pittsburgh\, PA 15204\, Pittsburgh\, PA\, 15204\, United States
END:VEVENT
BEGIN:VEVENT
DTSTART;TZID=UTC:20251213T080000
DTEND;TZID=UTC:20251213T170000
DTSTAMP:20260423T215309
CREATED:20240904T143835Z
LAST-MODIFIED:20251029T173619Z
UID:1977-1765612800-1765645200@ampacplumber.org
SUMMARY:Backflow Recert Class
DESCRIPTION:
URL:https://ampacplumber.org/event/backflow-recert-classes-3/
LOCATION:AMPAC\, 3128 Allendale St\, Pittsburgh\, PA 15204\, Pittsburgh\, PA\, 15204\, United States
END:VEVENT
BEGIN:VEVENT
DTSTART;TZID=UTC:20251120T180000
DTEND;TZID=UTC:20251120T210000
DTSTAMP:20260423T215309
CREATED:20250905T154138Z
LAST-MODIFIED:20250905T154138Z
UID:2186-1763661600-1763672400@ampacplumber.org
SUMMARY:Master Refresher Course
DESCRIPTION:
URL:https://ampacplumber.org/event/master-refresher-course-7/
LOCATION:AMPAC\, 3128 Allendale St\, Pittsburgh\, PA 15204\, Pittsburgh\, PA\, 15204\, United States
END:VEVENT
BEGIN:VEVENT
DTSTART;TZID=UTC:20251119T180000
DTEND;TZID=UTC:20251119T213000
DTSTAMP:20260423T215309
CREATED:20240724T185103Z
LAST-MODIFIED:20250418T132159Z
UID:1913-1763575200-1763587800@ampacplumber.org
SUMMARY:2nd & 4th Years (Night 24)
DESCRIPTION:
URL:https://ampacplumber.org/event/2nd-4th-years-night-24/
LOCATION:PA
END:VEVENT
BEGIN:VEVENT
DTSTART;TZID=UTC:20251118T180000
DTEND;TZID=UTC:20251118T213000
DTSTAMP:20260423T215309
CREATED:20240724T191044Z
LAST-MODIFIED:20250418T132125Z
UID:1961-1763488800-1763501400@ampacplumber.org
SUMMARY:1st & 3rd Years (Night 24)
DESCRIPTION:
URL:https://ampacplumber.org/event/1st-3rd-years-night-24/
LOCATION:PA
END:VEVENT
BEGIN:VEVENT
DTSTART;TZID=UTC:20251117T180000
DTEND;TZID=UTC:20251117T213000
DTSTAMP:20260423T215309
CREATED:20240724T185041Z
LAST-MODIFIED:20250418T132233Z
UID:1911-1763402400-1763415000@ampacplumber.org
SUMMARY:2nd & 4th Years (Night 23)
DESCRIPTION:
URL:https://ampacplumber.org/event/2nd-4th-years-night-23/
LOCATION:PA
END:VEVENT
BEGIN:VEVENT
DTSTART;VALUE=DATE:20251117
DTEND;VALUE=DATE:20251118
DTSTAMP:20260423T215309
CREATED:20251029T172024Z
LAST-MODIFIED:20251029T172026Z
UID:2246-1763337600-1763423999@ampacplumber.org
SUMMARY:Deadline for application: ACHD's exam
DESCRIPTION:Deadline for application: application and notarized work statement
URL:https://ampacplumber.org/event/deadline-for-application-achds-exam/
LOCATION:PA
END:VEVENT
BEGIN:VEVENT
DTSTART;TZID=UTC:20251115T180000
DTEND;TZID=UTC:20251115T210000
DTSTAMP:20260423T215309
CREATED:20250926T153229Z
LAST-MODIFIED:20250926T153229Z
UID:2217-1763229600-1763240400@ampacplumber.org
SUMMARY:Backflow Cert Class
DESCRIPTION:
URL:https://ampacplumber.org/event/backflow-cert-class-15/
LOCATION:AMPAC\, 3128 Allendale St\, Pittsburgh\, PA 15204\, Pittsburgh\, PA\, 15204\, United States
END:VEVENT
BEGIN:VEVENT
DTSTART;TZID=UTC:20251115T080000
DTEND;TZID=UTC:20251115T170000
DTSTAMP:20260423T215309
CREATED:20240904T143900Z
LAST-MODIFIED:20251029T173552Z
UID:1979-1763193600-1763226000@ampacplumber.org
SUMMARY:Backflow Recert Class
DESCRIPTION:
URL:https://ampacplumber.org/event/backflow-recert-classes-4/
LOCATION:AMPAC\, 3128 Allendale St\, Pittsburgh\, PA 15204\, Pittsburgh\, PA\, 15204\, United States
END:VEVENT
BEGIN:VEVENT
DTSTART;TZID=UTC:20251113T180000
DTEND;TZID=UTC:20251113T213000
DTSTAMP:20260423T215309
CREATED:20240724T191028Z
LAST-MODIFIED:20250418T132309Z
UID:1959-1763056800-1763069400@ampacplumber.org
SUMMARY:1st & 3rd Years (Night 23)
DESCRIPTION:
URL:https://ampacplumber.org/event/1st-3rd-years-night-23/
LOCATION:PA
END:VEVENT
BEGIN:VEVENT
DTSTART;TZID=UTC:20251113T180000
DTEND;TZID=UTC:20251113T210000
DTSTAMP:20260423T215309
CREATED:20250905T154111Z
LAST-MODIFIED:20250905T154111Z
UID:2184-1763056800-1763067600@ampacplumber.org
SUMMARY:Master Refresher Course
DESCRIPTION:
URL:https://ampacplumber.org/event/master-refresher-course-6/
LOCATION:AMPAC\, 3128 Allendale St\, Pittsburgh\, PA 15204\, Pittsburgh\, PA\, 15204\, United States
END:VEVENT
BEGIN:VEVENT
DTSTART;TZID=UTC:20251112T180000
DTEND;TZID=UTC:20251112T213000
DTSTAMP:20260423T215309
CREATED:20240724T184958Z
LAST-MODIFIED:20250418T132349Z
UID:1909-1762970400-1762983000@ampacplumber.org
SUMMARY:2nd & 4th Years (Night 22)
DESCRIPTION:
URL:https://ampacplumber.org/event/2nd-4th-years-night-22/
LOCATION:PA
END:VEVENT
BEGIN:VEVENT
DTSTART;TZID=UTC:20251111T180000
DTEND;TZID=UTC:20251111T213000
DTSTAMP:20260423T215309
CREATED:20240724T191011Z
LAST-MODIFIED:20250418T132434Z
UID:1957-1762884000-1762896600@ampacplumber.org
SUMMARY:1st & 3rd Years (Night 22)
DESCRIPTION:
URL:https://ampacplumber.org/event/1st-3rd-years-night-22/
LOCATION:PA
END:VEVENT
BEGIN:VEVENT
DTSTART;TZID=UTC:20251110T080000
DTEND;TZID=UTC:20251110T170000
DTSTAMP:20260423T215309
CREATED:20240724T183141Z
LAST-MODIFIED:20250418T135158Z
UID:1857-1762761600-1762794000@ampacplumber.org
SUMMARY:Veteran's Day (No Classes)
DESCRIPTION:
URL:https://ampacplumber.org/event/veterans-day-no-classes/
LOCATION:PA
END:VEVENT
BEGIN:VEVENT
DTSTART;TZID=UTC:20251106T180000
DTEND;TZID=UTC:20251106T213000
DTSTAMP:20260423T215309
CREATED:20240724T190946Z
LAST-MODIFIED:20250418T140121Z
UID:1955-1762452000-1762464600@ampacplumber.org
SUMMARY:1st & 3rd Years (Night 21)
DESCRIPTION:
URL:https://ampacplumber.org/event/1st-3rd-years-night-21/
LOCATION:PA
END:VEVENT
BEGIN:VEVENT
DTSTART;TZID=UTC:20251106T180000
DTEND;TZID=UTC:20251106T210000
DTSTAMP:20260423T215309
CREATED:20250905T154038Z
LAST-MODIFIED:20250905T154038Z
UID:2182-1762452000-1762462800@ampacplumber.org
SUMMARY:Master Refresher Course
DESCRIPTION:
URL:https://ampacplumber.org/event/master-refresher-course-5/
LOCATION:AMPAC\, 3128 Allendale St\, Pittsburgh\, PA 15204\, Pittsburgh\, PA\, 15204\, United States
END:VEVENT
END:VCALENDAR