BEGIN:VCALENDAR
VERSION:2.0
PRODID:-//AMPAC - Associated Master Plumbers of Allegheny County - ECPv6.15.20//NONSGML v1.0//EN
CALSCALE:GREGORIAN
METHOD:PUBLISH
X-WR-CALNAME:AMPAC - Associated Master Plumbers of Allegheny County
X-ORIGINAL-URL:https://ampacplumber.org
X-WR-CALDESC:Events for AMPAC - Associated Master Plumbers of Allegheny County
REFRESH-INTERVAL;VALUE=DURATION:PT1H
X-Robots-Tag:noindex
X-PUBLISHED-TTL:PT1H
BEGIN:VTIMEZONE
TZID:UTC
BEGIN:STANDARD
TZOFFSETFROM:+0000
TZOFFSETTO:+0000
TZNAME:UTC
DTSTART:20250101T000000
END:STANDARD
END:VTIMEZONE
BEGIN:VEVENT
DTSTART;TZID=UTC:20260310T180000
DTEND;TZID=UTC:20260310T210000
DTSTAMP:20260423T180254
CREATED:20250905T154802Z
LAST-MODIFIED:20260223T202718Z
UID:2212-1773165600-1773176400@ampacplumber.org
SUMMARY:Backflow Cert Class
DESCRIPTION:
URL:https://ampacplumber.org/event/backflow-cert-class-13/
LOCATION:AMPAC\, 3128 Allendale St\, Pittsburgh\, PA 15204\, Pittsburgh\, PA\, 15204\, United States
END:VEVENT
BEGIN:VEVENT
DTSTART;TZID=UTC:20260310T180000
DTEND;TZID=UTC:20260310T213000
DTSTAMP:20260423T180254
CREATED:20240724T182535Z
LAST-MODIFIED:20251219T192345Z
UID:1839-1773165600-1773178200@ampacplumber.org
SUMMARY:1st & 3rd Year (Night 19)
DESCRIPTION:
URL:https://ampacplumber.org/event/1st-3rd-year-night-19/
END:VEVENT
BEGIN:VEVENT
DTSTART;TZID=UTC:20260311T180000
DTEND;TZID=UTC:20260311T213000
DTSTAMP:20260423T180254
CREATED:20240724T180745Z
LAST-MODIFIED:20251219T191423Z
UID:1793-1773252000-1773264600@ampacplumber.org
SUMMARY:2nd & 4th Year (Night 20)
DESCRIPTION:
URL:https://ampacplumber.org/event/2nd-4th-year-night-20/
END:VEVENT
BEGIN:VEVENT
DTSTART;TZID=UTC:20260312T180000
DTEND;TZID=UTC:20260312T213000
DTSTAMP:20260423T180254
CREATED:20240724T182606Z
LAST-MODIFIED:20251219T192403Z
UID:1841-1773338400-1773351000@ampacplumber.org
SUMMARY:1st & 3rd Year (Night 20)
DESCRIPTION:21 Hr. Refresher
URL:https://ampacplumber.org/event/1st-3rd-year-night-20/
END:VEVENT
BEGIN:VEVENT
DTSTART;VALUE=DATE:20260316
DTEND;VALUE=DATE:20260317
DTSTAMP:20260423T180254
CREATED:20260223T202342Z
LAST-MODIFIED:20260223T202343Z
UID:2422-1773619200-1773705599@ampacplumber.org
SUMMARY:Plumbing Exam Registration Deadline
DESCRIPTION:The application window for the next plumbing exam is open. The next plumbing exam is scheduled for April 13-14\, 2026. The deadline to apply for this exam is March 16\, 2026. Applications for the exam will now be submitted exclusively online through the Accela Citizen Access Portal. Please submit an electronic copy of the completed notarized work statement when you submit your exam application. Please do not mail or hand deliver the notarized copies of the work statements. \nThe exam will be on the 2022 version of Allegheny County’s Article XV. \nStep-by-step instructions on how to apply.
URL:https://ampacplumber.org/event/plumbing-exam-registration-deadline/
END:VEVENT
BEGIN:VEVENT
DTSTART;TZID=UTC:20260316T180000
DTEND;TZID=UTC:20260316T213000
DTSTAMP:20260423T180254
CREATED:20240724T180836Z
LAST-MODIFIED:20251219T191442Z
UID:1795-1773684000-1773696600@ampacplumber.org
SUMMARY:2nd & 4th Year (Night 21)
DESCRIPTION:
URL:https://ampacplumber.org/event/2nd-4th-year-night-21/
END:VEVENT
BEGIN:VEVENT
DTSTART;TZID=UTC:20260317T180000
DTEND;TZID=UTC:20260317T213000
DTSTAMP:20260423T180254
CREATED:20240724T182636Z
LAST-MODIFIED:20251219T192419Z
UID:1843-1773770400-1773783000@ampacplumber.org
SUMMARY:1st & 3rd Year (Night 21)
DESCRIPTION:
URL:https://ampacplumber.org/event/1st-3rd-year-night-21/
END:VEVENT
BEGIN:VEVENT
DTSTART;TZID=UTC:20260318T180000
DTEND;TZID=UTC:20260318T213000
DTSTAMP:20260423T180254
CREATED:20240724T180908Z
LAST-MODIFIED:20251219T191504Z
UID:1797-1773856800-1773869400@ampacplumber.org
SUMMARY:2nd & 4th Year (Night 22)
DESCRIPTION:
URL:https://ampacplumber.org/event/2nd-4th-year-night-22/
END:VEVENT
BEGIN:VEVENT
DTSTART;TZID=UTC:20260319T180000
DTEND;TZID=UTC:20260319T213000
DTSTAMP:20260423T180254
CREATED:20240724T182744Z
LAST-MODIFIED:20251219T192439Z
UID:1845-1773943200-1773955800@ampacplumber.org
SUMMARY:1st & 3rd Year (Night 22)
DESCRIPTION:21 Hr. Refresher
URL:https://ampacplumber.org/event/1st-3rd-year-night-22/
END:VEVENT
BEGIN:VEVENT
DTSTART;TZID=UTC:20260321T080000
DTEND;TZID=UTC:20260321T170000
DTSTAMP:20260423T180254
CREATED:20240416T151700Z
LAST-MODIFIED:20260223T202705Z
UID:1706-1774080000-1774112400@ampacplumber.org
SUMMARY:Backflow Recert Class
DESCRIPTION:Register for class\nPlease add your existing certification number.
URL:https://ampacplumber.org/event/backflow-recertification-class-7/
LOCATION:AMPAC\, 3128 Allendale St\, Pittsburgh\, PA 15204\, Pittsburgh\, PA\, 15204\, United States
END:VEVENT
BEGIN:VEVENT
DTSTART;TZID=UTC:20260323T180000
DTEND;TZID=UTC:20260323T213000
DTSTAMP:20260423T180254
CREATED:20240724T180946Z
LAST-MODIFIED:20251219T191534Z
UID:1799-1774288800-1774301400@ampacplumber.org
SUMMARY:2nd & 4th Year (Night 23)
DESCRIPTION:
URL:https://ampacplumber.org/event/2nd-4th-year-night-23/
END:VEVENT
BEGIN:VEVENT
DTSTART;TZID=UTC:20260324T180000
DTEND;TZID=UTC:20260324T213000
DTSTAMP:20260423T180254
CREATED:20240724T182819Z
LAST-MODIFIED:20251219T192509Z
UID:1847-1774375200-1774387800@ampacplumber.org
SUMMARY:1st & 3rd Year (Night 23)
DESCRIPTION:
URL:https://ampacplumber.org/event/1st-3rd-year-night-23/
END:VEVENT
BEGIN:VEVENT
DTSTART;TZID=UTC:20260325T180000
DTEND;TZID=UTC:20260325T213000
DTSTAMP:20260423T180254
CREATED:20240724T181013Z
LAST-MODIFIED:20251219T191556Z
UID:1801-1774461600-1774474200@ampacplumber.org
SUMMARY:2nd & 4th Year (Night 24)
DESCRIPTION:
URL:https://ampacplumber.org/event/2nd-4th-year-night-24/
END:VEVENT
BEGIN:VEVENT
DTSTART;TZID=UTC:20260326T180000
DTEND;TZID=UTC:20260326T213000
DTSTAMP:20260423T180254
CREATED:20240724T182852Z
LAST-MODIFIED:20251219T192528Z
UID:1849-1774548000-1774560600@ampacplumber.org
SUMMARY:1st & 3rd Year (Night 24)
DESCRIPTION:21 Hr. Refresher
URL:https://ampacplumber.org/event/1st-3rd-year-night-24/
END:VEVENT
BEGIN:VEVENT
DTSTART;VALUE=DATE:20260413
DTEND;VALUE=DATE:20260415
DTSTAMP:20260423T180254
CREATED:20260223T203134Z
LAST-MODIFIED:20260223T220421Z
UID:2424-1776038400-1776211199@ampacplumber.org
SUMMARY:Plumbing Exam
DESCRIPTION:The exam will be on the 2022 version of Allegheny County’s Article XV.
URL:https://ampacplumber.org/event/plumbing-exam/
END:VEVENT
BEGIN:VEVENT
DTSTART;TZID=UTC:20260418T080000
DTEND;TZID=UTC:20260418T170000
DTSTAMP:20260423T180254
CREATED:20240416T151535Z
LAST-MODIFIED:20260223T202654Z
UID:1704-1776499200-1776531600@ampacplumber.org
SUMMARY:Backflow Recert Class
DESCRIPTION:
URL:https://ampacplumber.org/event/backflow-recertification-class-6/
LOCATION:AMPAC\, 3128 Allendale St\, Pittsburgh\, PA 15204\, Pittsburgh\, PA\, 15204\, United States
END:VEVENT
BEGIN:VEVENT
DTSTART;TZID=UTC:20260516T080000
DTEND;TZID=UTC:20260516T170000
DTSTAMP:20260423T180254
CREATED:20231109T190847Z
LAST-MODIFIED:20260223T202645Z
UID:1535-1778918400-1778950800@ampacplumber.org
SUMMARY:Backflow Recert Class
DESCRIPTION:
URL:https://ampacplumber.org/event/backflow-recertification-class-5/
LOCATION:AMPAC\, 3128 Allendale St\, Pittsburgh\, PA 15204\, Pittsburgh\, PA\, 15204\, United States
END:VEVENT
END:VCALENDAR