BEGIN:VCALENDAR
VERSION:2.0
PRODID:-//AMPAC - Associated Master Plumbers of Allegheny County - ECPv6.15.20//NONSGML v1.0//EN
CALSCALE:GREGORIAN
METHOD:PUBLISH
X-WR-CALNAME:AMPAC - Associated Master Plumbers of Allegheny County
X-ORIGINAL-URL:https://ampacplumber.org
X-WR-CALDESC:Events for AMPAC - Associated Master Plumbers of Allegheny County
REFRESH-INTERVAL;VALUE=DURATION:PT1H
X-Robots-Tag:noindex
X-PUBLISHED-TTL:PT1H
BEGIN:VTIMEZONE
TZID:UTC
BEGIN:STANDARD
TZOFFSETFROM:+0000
TZOFFSETTO:+0000
TZNAME:UTC
DTSTART:20250101T000000
END:STANDARD
END:VTIMEZONE
BEGIN:VEVENT
DTSTART;TZID=UTC:20260309T180000
DTEND;TZID=UTC:20260309T213000
DTSTAMP:20260423T163253
CREATED:20240724T180657Z
LAST-MODIFIED:20251219T191401Z
UID:1791-1773079200-1773091800@ampacplumber.org
SUMMARY:2nd & 4th Year (Night 19)
DESCRIPTION:
URL:https://ampacplumber.org/event/2nd-4th-year-night-19/
END:VEVENT
END:VCALENDAR