BEGIN:VCALENDAR
VERSION:2.0
PRODID:-//AMPAC - Associated Master Plumbers of Allegheny County - ECPv6.15.20//NONSGML v1.0//EN
CALSCALE:GREGORIAN
METHOD:PUBLISH
X-ORIGINAL-URL:https://ampacplumber.org
X-WR-CALDESC:Events for AMPAC - Associated Master Plumbers of Allegheny County
REFRESH-INTERVAL;VALUE=DURATION:PT1H
X-Robots-Tag:noindex
X-PUBLISHED-TTL:PT1H
BEGIN:VTIMEZONE
TZID:UTC
BEGIN:STANDARD
TZOFFSETFROM:+0000
TZOFFSETTO:+0000
TZNAME:UTC
DTSTART:20240101T000000
END:STANDARD
END:VTIMEZONE
BEGIN:VEVENT
DTSTART;TZID=UTC:20251021T180000
DTEND;TZID=UTC:20251021T210000
DTSTAMP:20260423T231559
CREATED:20250905T153658Z
LAST-MODIFIED:20250905T153658Z
UID:2168-1761069600-1761080400@ampacplumber.org
SUMMARY:21 Hr. Make Up
DESCRIPTION:
URL:https://ampacplumber.org/event/21-hr-make-up-5/
LOCATION:AMPAC\, 3128 Allendale St\, Pittsburgh\, PA 15204\, Pittsburgh\, PA\, 15204\, United States
END:VEVENT
BEGIN:VEVENT
DTSTART;TZID=UTC:20251021T180000
DTEND;TZID=UTC:20251021T213000
DTSTAMP:20260423T231559
CREATED:20240724T190744Z
LAST-MODIFIED:20250418T133108Z
UID:1945-1761069600-1761082200@ampacplumber.org
SUMMARY:1st & 3rd Years (Night 16)
DESCRIPTION:21 Hr. Refresher
URL:https://ampacplumber.org/event/1st-3rd-years-night-16/
END:VEVENT
END:VCALENDAR