BEGIN:VCALENDAR
VERSION:2.0
PRODID:-//AMPAC - Associated Master Plumbers of Allegheny County - ECPv6.15.20//NONSGML v1.0//EN
CALSCALE:GREGORIAN
METHOD:PUBLISH
X-WR-CALNAME:AMPAC - Associated Master Plumbers of Allegheny County
X-ORIGINAL-URL:https://ampacplumber.org
X-WR-CALDESC:Events for AMPAC - Associated Master Plumbers of Allegheny County
REFRESH-INTERVAL;VALUE=DURATION:PT1H
X-Robots-Tag:noindex
X-PUBLISHED-TTL:PT1H
BEGIN:VTIMEZONE
TZID:UTC
BEGIN:STANDARD
TZOFFSETFROM:+0000
TZOFFSETTO:+0000
TZNAME:UTC
DTSTART:20240101T000000
END:STANDARD
END:VTIMEZONE
BEGIN:VEVENT
DTSTART;TZID=UTC:20250826T180000
DTEND;TZID=UTC:20250826T213000
DTSTAMP:20260424T020947
CREATED:20240724T185733Z
LAST-MODIFIED:20250418T134925Z
UID:1915-1756231200-1756243800@ampacplumber.org
SUMMARY:1st & 3rd Years (Night 1)
DESCRIPTION:
URL:https://ampacplumber.org/event/1st-3rd-years-night-1/
END:VEVENT
END:VCALENDAR