BEGIN:VCALENDAR
VERSION:2.0
PRODID:-//AMPAC - Associated Master Plumbers of Allegheny County - ECPv6.15.20//NONSGML v1.0//EN
CALSCALE:GREGORIAN
METHOD:PUBLISH
X-ORIGINAL-URL:https://ampacplumber.org
X-WR-CALDESC:Events for AMPAC - Associated Master Plumbers of Allegheny County
REFRESH-INTERVAL;VALUE=DURATION:PT1H
X-Robots-Tag:noindex
X-PUBLISHED-TTL:PT1H
BEGIN:VTIMEZONE
TZID:UTC
BEGIN:STANDARD
TZOFFSETFROM:+0000
TZOFFSETTO:+0000
TZNAME:UTC
DTSTART:20240101T000000
END:STANDARD
END:VTIMEZONE
BEGIN:VEVENT
DTSTART;TZID=UTC:20250820T180000
DTEND;TZID=UTC:20250820T210000
DTSTAMP:20260424T021012
CREATED:20240724T175227Z
LAST-MODIFIED:20250418T131916Z
UID:1753-1755712800-1755723600@ampacplumber.org
SUMMARY:1st Year Orientation
DESCRIPTION:
URL:https://ampacplumber.org/event/1st-year-orientation/
END:VEVENT
END:VCALENDAR