BEGIN:VCALENDAR
VERSION:2.0
PRODID:-//AMPAC - Associated Master Plumbers of Allegheny County - ECPv6.15.20//NONSGML v1.0//EN
CALSCALE:GREGORIAN
METHOD:PUBLISH
X-WR-CALNAME:AMPAC - Associated Master Plumbers of Allegheny County
X-ORIGINAL-URL:https://ampacplumber.org
X-WR-CALDESC:Events for AMPAC - Associated Master Plumbers of Allegheny County
REFRESH-INTERVAL;VALUE=DURATION:PT1H
X-Robots-Tag:noindex
X-PUBLISHED-TTL:PT1H
BEGIN:VTIMEZONE
TZID:UTC
BEGIN:STANDARD
TZOFFSETFROM:+0000
TZOFFSETTO:+0000
TZNAME:UTC
DTSTART:20230101T000000
END:STANDARD
END:VTIMEZONE
BEGIN:VEVENT
DTSTART;TZID=UTC:20240731T080000
DTEND;TZID=UTC:20240731T170000
DTSTAMP:20260424T201711
CREATED:20240315T183835Z
LAST-MODIFIED:20240315T183836Z
UID:1675-1722412800-1722445200@ampacplumber.org
SUMMARY:Final day of registration for any returning Apprentice is 7/31/2024
DESCRIPTION:Complete registration through our web portal & employer full payment must be received by deadline. \nAny returning Apprentice registration received after this date will be assessed a $100 late fee.
URL:https://ampacplumber.org/event/final-day-of-registration-for-any-returning-apprentice-is-7-31-2024/
END:VEVENT
END:VCALENDAR