BEGIN:VCALENDAR
VERSION:2.0
PRODID:-//AMPAC - Associated Master Plumbers of Allegheny County - ECPv6.15.20//NONSGML v1.0//EN
CALSCALE:GREGORIAN
METHOD:PUBLISH
X-WR-CALNAME:AMPAC - Associated Master Plumbers of Allegheny County
X-ORIGINAL-URL:https://ampacplumber.org
X-WR-CALDESC:Events for AMPAC - Associated Master Plumbers of Allegheny County
REFRESH-INTERVAL;VALUE=DURATION:PT1H
X-Robots-Tag:noindex
X-PUBLISHED-TTL:PT1H
BEGIN:VTIMEZONE
TZID:UTC
BEGIN:STANDARD
TZOFFSETFROM:+0000
TZOFFSETTO:+0000
TZNAME:UTC
DTSTART:20220101T000000
END:STANDARD
END:VTIMEZONE
BEGIN:VEVENT
DTSTART;TZID=UTC:20230202T180000
DTEND;TZID=UTC:20230202T210000
DTSTAMP:20260425T232459
CREATED:20230123T190802Z
LAST-MODIFIED:20230123T190802Z
UID:1279-1675360800-1675371600@ampacplumber.org
SUMMARY:21 Hour refresher course
DESCRIPTION:First night of 7 nights.
URL:https://ampacplumber.org/event/21-hour-refresher-course/
END:VEVENT
BEGIN:VEVENT
DTSTART;TZID=UTC:20230202T183000
DTEND;TZID=UTC:20230202T213000
DTSTAMP:20260425T232459
CREATED:20230123T211326Z
LAST-MODIFIED:20230123T212417Z
UID:1304-1675362600-1675373400@ampacplumber.org
SUMMARY:Backflow certification course
DESCRIPTION:
URL:https://ampacplumber.org/event/backflow-certification-course-2/
END:VEVENT
END:VCALENDAR