BEGIN:VCALENDAR
VERSION:2.0
PRODID:-//AMPAC - Associated Master Plumbers of Allegheny County - ECPv6.15.20//NONSGML v1.0//EN
CALSCALE:GREGORIAN
METHOD:PUBLISH
X-ORIGINAL-URL:https://ampacplumber.org
X-WR-CALDESC:Events for AMPAC - Associated Master Plumbers of Allegheny County
REFRESH-INTERVAL;VALUE=DURATION:PT1H
X-Robots-Tag:noindex
X-PUBLISHED-TTL:PT1H
BEGIN:VTIMEZONE
TZID:UTC
BEGIN:STANDARD
TZOFFSETFROM:+0000
TZOFFSETTO:+0000
TZNAME:UTC
DTSTART:20210101T000000
END:STANDARD
END:VTIMEZONE
BEGIN:VEVENT
DTSTART;TZID=UTC:20221215T080000
DTEND;TZID=UTC:20230103T180000
DTSTAMP:20260426T015908
CREATED:20221215T174318Z
LAST-MODIFIED:20221215T175705Z
UID:1216-1671091200-1672768800@ampacplumber.org
SUMMARY:*New Apprentices can still Register*
DESCRIPTION:There is still time to register as a brand new apprentice. \nNo late fees for new students. \nMust register by the first night of classes. \nCall or email Sandy in the office for more information @ 412-923-1023 or email office@ampacplumber.org \n  \nCurrent Students can still register but a late fee of $100 will be incurred.
URL:https://ampacplumber.org/event/still-time-to-register-for-brand-new-apprentices-no-late-fees-if-you-are-new-to-ampac-must-register-before-the-first-night-of-class/
END:VEVENT
END:VCALENDAR